BEGIN:VCALENDAR
VERSION:2.0
PRODID:-//Fundación Excelencia - ECPv6.15.20//NONSGML v1.0//EN
CALSCALE:GREGORIAN
METHOD:PUBLISH
X-ORIGINAL-URL:https://fundacion-excelencia.org
X-WR-CALDESC:Eventos para Fundación Excelencia
REFRESH-INTERVAL;VALUE=DURATION:PT1H
X-Robots-Tag:noindex
X-PUBLISHED-TTL:PT1H
BEGIN:VTIMEZONE
TZID:America/Argentina/Buenos_Aires
BEGIN:STANDARD
TZOFFSETFROM:-0300
TZOFFSETTO:-0300
TZNAME:-03
DTSTART:20210101T000000
END:STANDARD
END:VTIMEZONE
BEGIN:VEVENT
DTSTART;VALUE=DATE:20221111
DTEND;VALUE=DATE:20221113
DTSTAMP:20260423T164130
CREATED:20221127T001357Z
LAST-MODIFIED:20221127T003954Z
UID:2787-1668124800-1668297599@fundacion-excelencia.org
SUMMARY:CONGRESO DE ENERGÍA 2022
DESCRIPTION:Los días 11 y 12 de Noviembre\, la Fundación Excelencia participó en el Congreso de Energía 2022\, que se realizó en la Facultad de Ingeniería de la Universidad Nacional de La Plata. En esa ocasión coordinó la mesa donde participaron: el Ing. Jorge del Gener por el rectorado de la UTN\, el Ing. Silvio Colombo por la UNDAV\, el Dr. Roberto Salvarezza Presidente del Directorio de Y-TEC\, el Dr. Ennio Candotti Físico y líder científico de Brasil\, el Ing. Nicolas Malinovsky Director de OECYT y el Dr. Rodolfo Kempf Gerente Programa Nacional de Gestión de los Residuos Radioactivos. \nCONGRESO DE ENERGÍA 2022 \n \n 
URL:https://fundacion-excelencia.org/evento/congreso-de-energia/
LOCATION:Facultad de Ingeniería\, Av. 1 750\, B1900TAG La Plata\, Provincia de Buenos Aires\, La Plata\, Buenos Aires\, 1900\, Argentina
CATEGORIES:Eventos
ATTACH;FMTTYPE=image/jpeg:https://fundacion-excelencia.org/wp-content/uploads/2022/11/Congreso-de-energia-8.jpg
END:VEVENT
BEGIN:VEVENT
DTSTART;TZID=America/Argentina/Buenos_Aires:20221116T170000
DTEND;TZID=America/Argentina/Buenos_Aires:20221116T200000
DTSTAMP:20260423T164130
CREATED:20221127T114913Z
LAST-MODIFIED:20221127T114913Z
UID:2808-1668618000-1668628800@fundacion-excelencia.org
SUMMARY:PREMIOS EXCELENCIA 2022
DESCRIPTION:Premios Excelencia 2022
URL:https://fundacion-excelencia.org/evento/premios-excelencia-2022/
LOCATION:Hotel Tango de Mayo\, Av. de Mayo 1396\, C1085 CABA\, CABA\, Buenos Aires\, 1085\, Argentina
CATEGORIES:Eventos
ATTACH;FMTTYPE=image/jpeg:https://fundacion-excelencia.org/wp-content/uploads/2022/11/Premios-Excelencia-2022-64.jpg
END:VEVENT
BEGIN:VEVENT
DTSTART;VALUE=DATE:20221130
DTEND;VALUE=DATE:20221201
DTSTAMP:20260423T164130
CREATED:20221218T125240Z
LAST-MODIFIED:20221218T125519Z
UID:2836-1669766400-1669852799@fundacion-excelencia.org
SUMMARY:BRINDIS DE FIN DE AÑO
DESCRIPTION:El día 30 de Noviembre\, La Fundación Excelencia realizó un brindis de fin de año junto al plantel de docentes y colaboradores de la Fundación. \nBRINDIS DE FIN DE AÑO 2022
URL:https://fundacion-excelencia.org/evento/brindis-de-fin-de-ano/
LOCATION:Buenos Aires
ATTACH;FMTTYPE=image/jpeg:https://fundacion-excelencia.org/wp-content/uploads/2022/12/Cena-fin-de-ano-2022-9.jpg
END:VEVENT
END:VCALENDAR