BEGIN:VCALENDAR
VERSION:2.0
PRODID:-//Fundación Excelencia - ECPv6.15.20//NONSGML v1.0//EN
CALSCALE:GREGORIAN
METHOD:PUBLISH
X-ORIGINAL-URL:https://fundacion-excelencia.org
X-WR-CALDESC:Eventos para Fundación Excelencia
REFRESH-INTERVAL;VALUE=DURATION:PT1H
X-Robots-Tag:noindex
X-PUBLISHED-TTL:PT1H
BEGIN:VTIMEZONE
TZID:America/Argentina/Buenos_Aires
BEGIN:STANDARD
TZOFFSETFROM:-0300
TZOFFSETTO:-0300
TZNAME:-03
DTSTART:20210101T000000
END:STANDARD
END:VTIMEZONE
BEGIN:VEVENT
DTSTART;VALUE=DATE:20221204
DTEND;VALUE=DATE:20221205
DTSTAMP:20260423T151732
CREATED:20221218T131316Z
LAST-MODIFIED:20221218T131316Z
UID:2845-1670112000-1670198399@fundacion-excelencia.org
SUMMARY:EXPOSICIÓN\, MUNICIPIO DE VICENTE LÓPEZ
DESCRIPTION:El día 4 de Diciembre\, La Fundación Excelencia participó en una exposición realizada por el Municipio de Vicente López\, a la cual fue invitada a presentar una muestra de las actividades que llevan adelante en el municipio. Nuestra labor está relacionada con capacitación y formación en cursos de Electricidad e Instalaciones Sanitarias que se están llevando a cabo en el Centro de la Mujer del Municipio. \nEXPOSICIÓN\, MUNICIPIO DE VICENTE LÓPEZ
URL:https://fundacion-excelencia.org/evento/exposicion-municipio-de-vicente-lopez/
LOCATION:Buenos Aires
CATEGORIES:Eventos,Exposiciones
ATTACH;FMTTYPE=image/jpeg:https://fundacion-excelencia.org/wp-content/uploads/2022/12/EXPO-V.LOPEZ-6.jpg
END:VEVENT
BEGIN:VEVENT
DTSTART;VALUE=DATE:20221229
DTEND;VALUE=DATE:20221230
DTSTAMP:20260423T151732
CREATED:20230124T183100Z
LAST-MODIFIED:20230124T183100Z
UID:2864-1672272000-1672358399@fundacion-excelencia.org
SUMMARY:RECONOCIMIENTO POR PARTE DEL INSTITUTO DE CAPACITACIÓN PARA LA ADMINISTRACIÓN MUNICIPAL
DESCRIPTION:RECONOCIMIENTO POR PARTE DEL INSTITUTO DE CAPACITACIÓN PARA LA ADMINISTRACIÓN MUNICIPAL
URL:https://fundacion-excelencia.org/evento/reconocimiento-por-parte-del-instituto-de-capacitacion-para-la-administracion-municipal/
LOCATION:Buenos Aires
CATEGORIES:Eventos
ATTACH;FMTTYPE=image/jpeg:https://fundacion-excelencia.org/wp-content/uploads/2023/01/Reconocimiento-ICAM-1.jpg
END:VEVENT
END:VCALENDAR