BEGIN:VCALENDAR
VERSION:2.0
PRODID:-//Fundación Excelencia - ECPv6.15.20//NONSGML v1.0//EN
CALSCALE:GREGORIAN
METHOD:PUBLISH
X-ORIGINAL-URL:https://fundacion-excelencia.org
X-WR-CALDESC:Eventos para Fundación Excelencia
REFRESH-INTERVAL;VALUE=DURATION:PT1H
X-Robots-Tag:noindex
X-PUBLISHED-TTL:PT1H
BEGIN:VTIMEZONE
TZID:America/Argentina/Buenos_Aires
BEGIN:STANDARD
TZOFFSETFROM:-0300
TZOFFSETTO:-0300
TZNAME:-03
DTSTART:20220101T000000
END:STANDARD
END:VTIMEZONE
BEGIN:VEVENT
DTSTART;VALUE=DATE:20231213
DTEND;VALUE=DATE:20231214
DTSTAMP:20260422T200332
CREATED:20240123T023255Z
LAST-MODIFIED:20240123T023255Z
UID:3105-1702425600-1702511999@fundacion-excelencia.org
SUMMARY:PREMIOS EXCELENCIA 2023
DESCRIPTION:Premios Excelencia 2023
URL:https://fundacion-excelencia.org/evento/premios-excelencia-2023/
LOCATION:A.P.S.E.E.\, San José 225\, C.A.B.A.\, Buenos Aires\, Argentina
CATEGORIES:Eventos
ATTACH;FMTTYPE=image/jpeg:https://fundacion-excelencia.org/wp-content/uploads/2024/01/PREMIOS-EXCELENCIA-2023-9.jpg
END:VEVENT
BEGIN:VEVENT
DTSTART;VALUE=DATE:20231229
DTEND;VALUE=DATE:20231230
DTSTAMP:20260422T200332
CREATED:20231230T164039Z
LAST-MODIFIED:20231230T164039Z
UID:3047-1703808000-1703894399@fundacion-excelencia.org
SUMMARY:ENTREGA DE CERTIFICADOS DEL CURSO DE RECICLADO DE TRABAJO CON TENSION EN MEDIA TENSIÓN (TCT-MT)
DESCRIPTION:ENTREGA DE CERTIFICADOS DEL CURSO DE RECICLADO DE TRABAJO CON TENSION EN MEDIA TENSIÓN (TCT-MT)
URL:https://fundacion-excelencia.org/evento/entrega-de-certificados-del-curso-de-reciclado-de-trabajo-con-tension-en-media-tension-tct-mt/
LOCATION:Buenos Aires
CATEGORIES:Cursos
ATTACH;FMTTYPE=image/jpeg:https://fundacion-excelencia.org/wp-content/uploads/2023/12/CERTIFICADOS-CURSO-RECICLADO-DE-TRABAJO-CON-TENSION-5.jpg
END:VEVENT
END:VCALENDAR