BEGIN:VCALENDAR
VERSION:2.0
PRODID:-//Fundación Excelencia - ECPv6.15.20//NONSGML v1.0//EN
CALSCALE:GREGORIAN
METHOD:PUBLISH
X-WR-CALNAME:Fundación Excelencia
X-ORIGINAL-URL:https://fundacion-excelencia.org
X-WR-CALDESC:Eventos para Fundación Excelencia
REFRESH-INTERVAL;VALUE=DURATION:PT1H
X-Robots-Tag:noindex
X-PUBLISHED-TTL:PT1H
BEGIN:VTIMEZONE
TZID:America/Argentina/Buenos_Aires
BEGIN:STANDARD
TZOFFSETFROM:-0300
TZOFFSETTO:-0300
TZNAME:-03
DTSTART:20230101T000000
END:STANDARD
END:VTIMEZONE
BEGIN:VEVENT
DTSTART;VALUE=DATE:20241203
DTEND;VALUE=DATE:20241204
DTSTAMP:20260420T030546
CREATED:20241204T133500Z
LAST-MODIFIED:20241204T133500Z
UID:3377-1733184000-1733270399@fundacion-excelencia.org
SUMMARY:CONVENIO CON EL IFTS N° 14 Y EL MINISTERIO DE EDUCACIÓN DE LA CIUDAD DE BUENOS AIRES
DESCRIPTION:CONVENIO CON EL IFTS N° 14 Y EL MINISTERIO DE EDUCACIÓN DE LA CIUDAD DE BUENOS AIRES
URL:https://fundacion-excelencia.org/evento/convenio-con-el-ifts-n-14-y-el-ministerio-de-educacion-de-la-ciudad-de-buenos-aires/
LOCATION:Fundación Excelencia\, Chacabuco 314\, 4to. piso\, of. 47\, C.A.B.A.\, Buenos Aires\, C 1069 AAH\, Argentina
CATEGORIES:Convenios
ATTACH;FMTTYPE=image/jpeg:https://fundacion-excelencia.org/wp-content/uploads/2024/12/CONVENIO-IFTS-14-7.jpg
END:VEVENT
BEGIN:VEVENT
DTSTART;VALUE=DATE:20241204
DTEND;VALUE=DATE:20241205
DTSTAMP:20260420T030546
CREATED:20241226T161104Z
LAST-MODIFIED:20241226T161111Z
UID:3457-1733270400-1733356799@fundacion-excelencia.org
SUMMARY:Premios Excelencia 2024
DESCRIPTION:Premios Excelencia 2024
URL:https://fundacion-excelencia.org/evento/premios-excelencia-2024/
LOCATION:A.P.S.E.E.\, San José 225\, C.A.B.A.\, Buenos Aires\, Argentina
CATEGORIES:Eventos
ATTACH;FMTTYPE=image/jpeg:https://fundacion-excelencia.org/wp-content/uploads/2024/12/PREMIOS-EXCELENCIA-2024-13.jpg
END:VEVENT
BEGIN:VEVENT
DTSTART;VALUE=DATE:20241206
DTEND;VALUE=DATE:20241207
DTSTAMP:20260420T030546
CREATED:20241214T181454Z
LAST-MODIFIED:20241214T181454Z
UID:3409-1733443200-1733529599@fundacion-excelencia.org
SUMMARY:BRINDIS DE FIN DE AÑO CON DOCENTES Y COLABORADORES
DESCRIPTION:BRINDIS DE FIN DE AÑO CON DOCENTES Y COLABORARES
URL:https://fundacion-excelencia.org/evento/brindis-de-fin-de-ano-con-docentes-y-colaboradores/
LOCATION:Buenos Aires
ATTACH;FMTTYPE=image/jpeg:https://fundacion-excelencia.org/wp-content/uploads/2024/12/BRINDIS-2024-DOCENTES-COLABORADORES-1.jpg
END:VEVENT
BEGIN:VEVENT
DTSTART;VALUE=DATE:20241209
DTEND;VALUE=DATE:20241210
DTSTAMP:20260420T030546
CREATED:20241210T155629Z
LAST-MODIFIED:20241210T155635Z
UID:3384-1733702400-1733788799@fundacion-excelencia.org
SUMMARY:SEGUIRÁS PRESENTE SIEMPRE
DESCRIPTION:SEGUIRÁS PRESENTE SIEMPRE
URL:https://fundacion-excelencia.org/evento/seguiras-presente-siempre/
LOCATION:Buenos Aires
ATTACH;FMTTYPE=image/jpeg:https://fundacion-excelencia.org/wp-content/uploads/2024/12/Premios-Excelencia-2020-20.jpg
END:VEVENT
END:VCALENDAR