BEGIN:VCALENDAR
VERSION:2.0
PRODID:-//Fundación Excelencia - ECPv6.15.20//NONSGML v1.0//EN
CALSCALE:GREGORIAN
METHOD:PUBLISH
X-ORIGINAL-URL:https://fundacion-excelencia.org
X-WR-CALDESC:Eventos para Fundación Excelencia
REFRESH-INTERVAL;VALUE=DURATION:PT1H
X-Robots-Tag:noindex
X-PUBLISHED-TTL:PT1H
BEGIN:VTIMEZONE
TZID:America/Argentina/Buenos_Aires
BEGIN:STANDARD
TZOFFSETFROM:-0300
TZOFFSETTO:-0300
TZNAME:-03
DTSTART:20240101T000000
END:STANDARD
END:VTIMEZONE
BEGIN:VEVENT
DTSTART;VALUE=DATE:20251106
DTEND;VALUE=DATE:20251107
DTSTAMP:20260419T113932
CREATED:20251103T162301Z
LAST-MODIFIED:20251103T162309Z
UID:3659-1762387200-1762473599@fundacion-excelencia.org
SUMMARY:CURSO DE MONTAJE ELÉCTRICO NIVEL 3
DESCRIPTION:CURSOS DE MONTAJE ELÉCTRICO NIVEL 3
URL:https://fundacion-excelencia.org/evento/curso-de-montaje-electrico-nivel-3/
LOCATION:Fundación Excelencia\, Chacabuco 314\, 4to. piso\, of. 47\, C.A.B.A.\, Buenos Aires\, C 1069 AAH\, Argentina
CATEGORIES:Comunidad,Cursos,Eventos
ATTACH;FMTTYPE=image/jpeg:https://fundacion-excelencia.org/wp-content/uploads/2021/11/Electricista-en-inmuebles.jpg
END:VEVENT
BEGIN:VEVENT
DTSTART;VALUE=DATE:20251108
DTEND;VALUE=DATE:20251109
DTSTAMP:20260419T113932
CREATED:20251125T122817Z
LAST-MODIFIED:20251125T123041Z
UID:3676-1762560000-1762646399@fundacion-excelencia.org
SUMMARY:CURSO SOBRE ALIMENTACIÓN SALUDABLE
DESCRIPTION:Ver esta publicación en Instagram\n\n\n\n\n\n\n\n\n\n\n\n\n\n\n\n\n\n\n\n\n\n\n \nUna publicación compartida por Fundación Excelencia (@fundacionexcelencia)
URL:https://fundacion-excelencia.org/evento/curso-sobre-alimentacion-saludable/
LOCATION:Buenos Aires
CATEGORIES:Comunidad,Cursos
END:VEVENT
END:VCALENDAR