BEGIN:VCALENDAR
VERSION:2.0
PRODID:-//Fundación Excelencia - ECPv6.15.20//NONSGML v1.0//EN
CALSCALE:GREGORIAN
METHOD:PUBLISH
X-WR-CALNAME:Fundación Excelencia
X-ORIGINAL-URL:https://fundacion-excelencia.org
X-WR-CALDESC:Eventos para Fundación Excelencia
REFRESH-INTERVAL;VALUE=DURATION:PT1H
X-Robots-Tag:noindex
X-PUBLISHED-TTL:PT1H
BEGIN:VTIMEZONE
TZID:America/Argentina/Buenos_Aires
BEGIN:STANDARD
TZOFFSETFROM:-0300
TZOFFSETTO:-0300
TZNAME:-03
DTSTART:20210101T000000
END:STANDARD
END:VTIMEZONE
BEGIN:VEVENT
DTSTART;VALUE=DATE:20221027
DTEND;VALUE=DATE:20221028
DTSTAMP:20260424T015000
CREATED:20221125T230102Z
LAST-MODIFIED:20221125T230102Z
UID:2701-1666828800-1666915199@fundacion-excelencia.org
SUMMARY:30 AÑOS
DESCRIPTION:El día 27 de Octubre\, se realizó en nuestras Instalaciones de Chacabuco n° 314\, un brindis de honor en conmemoración de los 30 años de la Fundación Excelencia. Participaron del mismo\, invitados especiales\, funcionarios del Ministerio de Trabajo\, Ministerios de Educación de CABA\, de Nación\, de Empresas\, Municipios\, Universidades y Fundaciones amigas\, entre otros. \n  \nCLICK AQUÍ PARA SEGUIR LA NOTA
URL:https://fundacion-excelencia.org/evento/30-anos/
LOCATION:Fundación Excelencia\, Chacabuco 314\, 4to. piso\, of. 47\, C.A.B.A.\, Buenos Aires\, C 1069 AAH\, Argentina
CATEGORIES:Eventos
ATTACH;FMTTYPE=image/jpeg:https://fundacion-excelencia.org/wp-content/uploads/2022/11/30-anos-celebracion-57.jpg
END:VEVENT
END:VCALENDAR