BEGIN:VCALENDAR
VERSION:2.0
PRODID:-//Fundación Excelencia - ECPv6.15.20//NONSGML v1.0//EN
CALSCALE:GREGORIAN
METHOD:PUBLISH
X-WR-CALNAME:Fundación Excelencia
X-ORIGINAL-URL:https://fundacion-excelencia.org
X-WR-CALDESC:Eventos para Fundación Excelencia
REFRESH-INTERVAL;VALUE=DURATION:PT1H
X-Robots-Tag:noindex
X-PUBLISHED-TTL:PT1H
BEGIN:VTIMEZONE
TZID:America/Argentina/Buenos_Aires
BEGIN:STANDARD
TZOFFSETFROM:-0300
TZOFFSETTO:-0300
TZNAME:-03
DTSTART:20220101T000000
END:STANDARD
END:VTIMEZONE
BEGIN:VEVENT
DTSTART;VALUE=DATE:20230328
DTEND;VALUE=DATE:20230329
DTSTAMP:20260423T103954
CREATED:20230329T001914Z
LAST-MODIFIED:20230329T002300Z
UID:2911-1679961600-1680047999@fundacion-excelencia.org
SUMMARY:CONVENIO MARCO CON LA FUNDACIÓN ACCIÓN SOCIAL FEDERAL FRANCO PILAR
DESCRIPTION:CONVENIO MARCO CON LA FUNDACIÓN ACCIÓN SOCIAL FEDERAL FRANCO PILAR
URL:https://fundacion-excelencia.org/evento/convenio-marco-con-la-fundacion-accion-social-federal-franco-pilar/
LOCATION:Fundación Excelencia\, Chacabuco 314\, 4to. piso\, of. 47\, C.A.B.A.\, Buenos Aires\, C 1069 AAH\, Argentina
CATEGORIES:Convenios
ATTACH;FMTTYPE=image/jpeg:https://fundacion-excelencia.org/wp-content/uploads/2023/03/Convenio-Fund-Accion-Social-Federal-Franco-Pilar-2.jpg
END:VEVENT
END:VCALENDAR