BEGIN:VCALENDAR
VERSION:2.0
PRODID:-//Fundación Excelencia - ECPv6.15.20//NONSGML v1.0//EN
CALSCALE:GREGORIAN
METHOD:PUBLISH
X-ORIGINAL-URL:https://fundacion-excelencia.org
X-WR-CALDESC:Eventos para Fundación Excelencia
REFRESH-INTERVAL;VALUE=DURATION:PT1H
X-Robots-Tag:noindex
X-PUBLISHED-TTL:PT1H
BEGIN:VTIMEZONE
TZID:America/Argentina/Buenos_Aires
BEGIN:STANDARD
TZOFFSETFROM:-0300
TZOFFSETTO:-0300
TZNAME:-03
DTSTART:20240101T000000
END:STANDARD
END:VTIMEZONE
BEGIN:VEVENT
DTSTART;VALUE=DATE:20250520
DTEND;VALUE=DATE:20250521
DTSTAMP:20260423T201202
CREATED:20250523T131741Z
LAST-MODIFIED:20250523T131903Z
UID:3568-1747699200-1747785599@fundacion-excelencia.org
SUMMARY:CURSO DE ELECTRICIDAD AVANZADA PRESENCIAL NIVEL 2
DESCRIPTION:CURSO DE ELECTRICIDAD AVANZADA PRESENCIAL NIVEL 2
URL:https://fundacion-excelencia.org/evento/curso-de-electricidad-avanzada-presencial-nivel-2/
LOCATION:A.P.S.E.E.\, San José 225\, C.A.B.A.\, Buenos Aires\, Argentina
CATEGORIES:Cursos
ATTACH;FMTTYPE=image/jpeg:https://fundacion-excelencia.org/wp-content/uploads/2025/05/CURSO-DE-ELECTRICIDAD-AVANZADA-NIVEL-2-3.jpg
END:VEVENT
BEGIN:VEVENT
DTSTART;VALUE=DATE:20250905
DTEND;VALUE=DATE:20250906
DTSTAMP:20260423T201202
CREATED:20250921T221657Z
LAST-MODIFIED:20250921T221657Z
UID:3623-1757030400-1757116799@fundacion-excelencia.org
SUMMARY:CHARLA SOBRE ELEMENTOS DE LA RED AT / MT / BT
DESCRIPTION:CHARLA SOBRE ELEMENTOS DE LA RED AT / MT / BT
URL:https://fundacion-excelencia.org/evento/charla-sobre-elementos-de-la-red-at-mt-bt/
LOCATION:Buenos Aires
CATEGORIES:Comunidad
END:VEVENT
BEGIN:VEVENT
DTSTART;VALUE=DATE:20250913
DTEND;VALUE=DATE:20250914
DTSTAMP:20260423T201202
CREATED:20250921T222040Z
LAST-MODIFIED:20250921T222040Z
UID:3627-1757721600-1757807999@fundacion-excelencia.org
SUMMARY:SEMINARIO SOBRE TABLERO ELÉCTRICO DOMICILIARIO EN BAJA TENSIÓN
DESCRIPTION:SEMINARIO SOBRE TABLERO ELÉCTRICO DOMICILIARIO EN BAJA TENSIÓN
URL:https://fundacion-excelencia.org/evento/seminario-sobre-tablero-electrico-domiciliario-en-baja-tension/
LOCATION:Fundación Excelencia\, Chacabuco 314\, 4to. piso\, of. 47\, C.A.B.A.\, Buenos Aires\, C 1069 AAH\, Argentina
CATEGORIES:Comunidad
END:VEVENT
BEGIN:VEVENT
DTSTART;VALUE=DATE:20250917
DTEND;VALUE=DATE:20250918
DTSTAMP:20260423T201202
CREATED:20250929T133011Z
LAST-MODIFIED:20250929T133011Z
UID:3633-1758067200-1758153599@fundacion-excelencia.org
SUMMARY:CONVENIO DE COOPERACIÓN CON LA FUNDACIÓN MARTINA
DESCRIPTION:CONVENIO DE COOPERACIÓN CON LA FUNDACIÓN MARTINA
URL:https://fundacion-excelencia.org/evento/convenio-de-cooperacion-con-la-fundacion-martina/
LOCATION:Buenos Aires
CATEGORIES:Convenios
END:VEVENT
BEGIN:VEVENT
DTSTART;VALUE=DATE:20251013
DTEND;VALUE=DATE:20251014
DTSTAMP:20260423T201202
CREATED:20251013T194043Z
LAST-MODIFIED:20251013T194043Z
UID:3646-1760313600-1760399999@fundacion-excelencia.org
SUMMARY:DESPEDIMOS AL SR. JUAN CARLOS ÁLVAREZ
DESCRIPTION:DESPEDIMOS AL SR. JUAN CARLOS ÁLVAREZ
URL:https://fundacion-excelencia.org/evento/despedimos-al-sr-juan-carlos-alvarez/
LOCATION:Buenos Aires
ATTACH;FMTTYPE=image/png:https://fundacion-excelencia.org/wp-content/uploads/2025/10/RIP-JUAN-CARLOS-ALVAREZ.png
END:VEVENT
BEGIN:VEVENT
DTSTART;VALUE=DATE:20251029
DTEND;VALUE=DATE:20251030
DTSTAMP:20260423T201202
CREATED:20251103T151545Z
LAST-MODIFIED:20251103T151545Z
UID:3655-1761696000-1761782399@fundacion-excelencia.org
SUMMARY:CONVENIO CON EL CONSEJO PROFESIONAL DE INGENIERIA MECÁNICA Y ELECTRICISTA (COPIME)
DESCRIPTION:CONVENIO CON EL CONSEJO PROFESIONAL DE INGENIERIA MECÁNICA Y ELECTRICISTA (COPIME)
URL:https://fundacion-excelencia.org/evento/convenio-con-el-consejo-profesional-de-ingenieria-mecanica-y-electricista-copime/
LOCATION:Fundación Excelencia\, Chacabuco 314\, 4to. piso\, of. 47\, C.A.B.A.\, Buenos Aires\, C 1069 AAH\, Argentina
CATEGORIES:Convenios
END:VEVENT
BEGIN:VEVENT
DTSTART;VALUE=DATE:20251030
DTEND;VALUE=DATE:20251031
DTSTAMP:20260423T201202
CREATED:20251119T164036Z
LAST-MODIFIED:20251119T164157Z
UID:3670-1761782400-1761868799@fundacion-excelencia.org
SUMMARY:CAPACITACIONES DE ELECTRICIDAD AVANZADA NIVEL 2
DESCRIPTION:CAPACITACIONES DE ELECTRICIDAD AVANZADA NIVEL 2
URL:https://fundacion-excelencia.org/evento/capacitaciones-de-electricidad-avanzada-nivel-2/
LOCATION:A.P.S.E.E.\, San José 225\, C.A.B.A.\, Buenos Aires\, Argentina
CATEGORIES:Cursos
END:VEVENT
BEGIN:VEVENT
DTSTART;VALUE=DATE:20251106
DTEND;VALUE=DATE:20251107
DTSTAMP:20260423T201202
CREATED:20251103T162301Z
LAST-MODIFIED:20251103T162309Z
UID:3659-1762387200-1762473599@fundacion-excelencia.org
SUMMARY:CURSO DE MONTAJE ELÉCTRICO NIVEL 3
DESCRIPTION:CURSOS DE MONTAJE ELÉCTRICO NIVEL 3
URL:https://fundacion-excelencia.org/evento/curso-de-montaje-electrico-nivel-3/
LOCATION:Fundación Excelencia\, Chacabuco 314\, 4to. piso\, of. 47\, C.A.B.A.\, Buenos Aires\, C 1069 AAH\, Argentina
CATEGORIES:Comunidad,Cursos,Eventos
ATTACH;FMTTYPE=image/jpeg:https://fundacion-excelencia.org/wp-content/uploads/2021/11/Electricista-en-inmuebles.jpg
END:VEVENT
BEGIN:VEVENT
DTSTART;VALUE=DATE:20251108
DTEND;VALUE=DATE:20251109
DTSTAMP:20260423T201202
CREATED:20251125T122817Z
LAST-MODIFIED:20251125T123041Z
UID:3676-1762560000-1762646399@fundacion-excelencia.org
SUMMARY:CURSO SOBRE ALIMENTACIÓN SALUDABLE
DESCRIPTION:Ver esta publicación en Instagram\n\n\n\n\n\n\n\n\n\n\n\n\n\n\n\n\n\n\n\n\n\n\n \nUna publicación compartida por Fundación Excelencia (@fundacionexcelencia)
URL:https://fundacion-excelencia.org/evento/curso-sobre-alimentacion-saludable/
LOCATION:Buenos Aires
CATEGORIES:Comunidad,Cursos
END:VEVENT
BEGIN:VEVENT
DTSTART;VALUE=DATE:20251202
DTEND;VALUE=DATE:20251203
DTSTAMP:20260423T201202
CREATED:20251220T162223Z
LAST-MODIFIED:20251220T162223Z
UID:3699-1764633600-1764719999@fundacion-excelencia.org
SUMMARY:Cursos de Montaje Eléctrico Nivel III
DESCRIPTION:Cursos de Montaje Eléctrico Nivel III
URL:https://fundacion-excelencia.org/evento/cursos-de-montaje-electrico-nivel-iii/
LOCATION:A.P.S.E.E.\, San José 225\, C.A.B.A.\, Buenos Aires\, Argentina
CATEGORIES:Comunidad,Cursos
END:VEVENT
BEGIN:VEVENT
DTSTART;VALUE=DATE:20251213
DTEND;VALUE=DATE:20251214
DTSTAMP:20260423T201202
CREATED:20251220T162522Z
LAST-MODIFIED:20251220T162522Z
UID:3703-1765584000-1765670399@fundacion-excelencia.org
SUMMARY:Seminario sobre Tablero Eléctrico Domiciliario en Baja Tensión
DESCRIPTION:Seminario sobre Tablero Eléctrico Domiciliario en Baja Tensión
URL:https://fundacion-excelencia.org/evento/seminario-sobre-tablero-electrico-domiciliario-en-baja-tension-2/
LOCATION:Fundación Excelencia\, Chacabuco 314\, 4to. piso\, of. 47\, C.A.B.A.\, Buenos Aires\, C 1069 AAH\, Argentina
CATEGORIES:Comunidad
END:VEVENT
BEGIN:VEVENT
DTSTART;TZID=America/Argentina/Buenos_Aires:20251217T173000
DTEND;TZID=America/Argentina/Buenos_Aires:20251217T200000
DTSTAMP:20260423T201202
CREATED:20260126T132732Z
LAST-MODIFIED:20260126T132732Z
UID:3729-1765992600-1766001600@fundacion-excelencia.org
SUMMARY:PREMIOS EXCELENCIA 2025
DESCRIPTION:PREMIOS EXCELENCIA 2025
URL:https://fundacion-excelencia.org/evento/premios-excelencia-2025/
LOCATION:A.P.S.E.E.\, San José 225\, C.A.B.A.\, Buenos Aires\, Argentina
CATEGORIES:Comunidad,Eventos
END:VEVENT
BEGIN:VEVENT
DTSTART;VALUE=DATE:20260205
DTEND;VALUE=DATE:20260206
DTSTAMP:20260423T201202
CREATED:20260214T121911Z
LAST-MODIFIED:20260214T121911Z
UID:3750-1770249600-1770335999@fundacion-excelencia.org
SUMMARY:CONVENIO DE COOPERACIÓN CON LA ASOCIACIÓN CIVIL OLIMPIADA ARGENTINA DE FILOSOFÍA
DESCRIPTION:Ver esta publicación en Instagram\n\n\n\n\n\n\n\n\n\n\n\n\n\n\n\n\n\n\n\n\n\n\n \nUna publicación compartida por Fundación Excelencia (@fundacionexcelencia)
URL:https://fundacion-excelencia.org/evento/convenio-de-cooperacion-con-la-asociacion-civil-olimpiada-argentina-de-filosofia/
LOCATION:Fundación Excelencia\, Chacabuco 314\, 4to. piso\, of. 47\, C.A.B.A.\, Buenos Aires\, C 1069 AAH\, Argentina
CATEGORIES:Convenios
END:VEVENT
END:VCALENDAR